BEGIN:VCALENDAR
VERSION:2.0
PRODID:-//ChamberMaster//Event Calendar 2.0//EN
METHOD:PUBLISH
X-PUBLISHED-TTL:P3D
REFRESH-INTERVAL:P3D
CALSCALE:GREGORIAN
BEGIN:VEVENT
DTSTART:20160211T010000Z
DTEND:20160211T020000Z
X-MICROSOFT-CDO-ALLDAYEVENT:FALSE
SUMMARY:Ribbon Cutting 21st Century Oncology of California
DESCRIPTION:Ribbon Cutting
X-ALT-DESC;FMTTYPE=text/html:Ribbon Cutting
LOCATION:21st Century Oncology of California 1211 W. La Palma Ave. #100 Anaheim\, CA 92801
UID:e.2108.1716
SEQUENCE:3
DTSTAMP:20260421T011525Z
URL:https://business.anaheimchamber.org/events/details/ribbon-cutting-21st-century-oncology-of-california-02-10-2016-1716
END:VEVENT

END:VCALENDAR
