BEGIN:VCALENDAR
VERSION:2.0
PRODID:-//ChamberMaster//Event Calendar 2.0//EN
METHOD:PUBLISH
X-PUBLISHED-TTL:P3D
REFRESH-INTERVAL:P3D
CALSCALE:GREGORIAN
BEGIN:VEVENT
DTSTART:20241213T190000Z
DTEND:20241213T200000Z
X-MICROSOFT-CDO-ALLDAYEVENT:FALSE
SUMMARY:Ribbon Cutting | 7 Eleven Grand Re-Opening
DESCRIPTION:Join us for a Re-Grand Opening of 7 Eleven!
X-ALT-DESC;FMTTYPE=text/html:Join us for a Re-Grand Opening of 7 Eleven!
LOCATION:7 Eleven 101 W Katella Ave Anaheim\, CA 92801
UID:e.2108.5735
SEQUENCE:3
DTSTAMP:20260419T154845Z
URL:https://business.anaheimchamber.org/events/details/ribbon-cutting-7-eleven-grand-re-opening-5735
END:VEVENT

END:VCALENDAR
