BEGIN:VCALENDAR
VERSION:2.0
PRODID:-//ChamberMaster//Event Calendar 2.0//EN
METHOD:PUBLISH
X-PUBLISHED-TTL:P3D
REFRESH-INTERVAL:P3D
CALSCALE:GREGORIAN
BEGIN:VEVENT
DTSTART:20161110T193000Z
DTEND:20161110T200000Z
X-MICROSOFT-CDO-ALLDAYEVENT:FALSE
SUMMARY:Ribbon Cutting - Adcraft Labels
DESCRIPTION:Ribbon Cutting
X-ALT-DESC;FMTTYPE=text/html:Ribbon Cutting
LOCATION:Adcraft Labels 1230 S Sherman St.\, Anaheim\, CA 92805 Anaheim\, CA 92801
UID:e.2108.2275
SEQUENCE:3
DTSTAMP:20260421T155842Z
URL:https://business.anaheimchamber.org/events/details/ribbon-cutting-adcraft-labels-2275
END:VEVENT

END:VCALENDAR
