BEGIN:VCALENDAR
VERSION:2.0
PRODID:-//ChamberMaster//Event Calendar 2.0//EN
METHOD:PUBLISH
X-PUBLISHED-TTL:P3D
REFRESH-INTERVAL:P3D
CALSCALE:GREGORIAN
BEGIN:VEVENT
DTSTART:20161111T013000Z
DTEND:20161111T033000Z
X-MICROSOFT-CDO-ALLDAYEVENT:FALSE
SUMMARY:Ribbon Cutting & After Hours Mixer - Citizens Lending Group
DESCRIPTION:Ribbon Cutting & After Hours Mixer
X-ALT-DESC;FMTTYPE=text/html:Ribbon Cutting &amp\; After Hours Mixer
LOCATION:3455 E. La Palma Anaheim\, CA 92806
UID:e.2108.2274
SEQUENCE:3
DTSTAMP:20260421T155904Z
URL:https://business.anaheimchamber.org/events/details/ribbon-cutting-after-hours-mixer-citizens-lending-group-2274
END:VEVENT

END:VCALENDAR
