BEGIN:VCALENDAR
VERSION:2.0
PRODID:-//ChamberMaster//Event Calendar 2.0//EN
METHOD:PUBLISH
X-PUBLISHED-TTL:P3D
REFRESH-INTERVAL:P3D
CALSCALE:GREGORIAN
BEGIN:VEVENT
DTSTART:20161025T220000Z
DTEND:20161025T230000Z
X-MICROSOFT-CDO-ALLDAYEVENT:FALSE
SUMMARY:Ribbon Cutting - AMCAP Mortgage
DESCRIPTION:Ribbon Cutting
X-ALT-DESC;FMTTYPE=text/html:Ribbon Cutting
LOCATION:AMCAP Mortgage 4501 E. La Palma Ave. Anaheim\, CA 92801
UID:e.2108.2265
SEQUENCE:3
DTSTAMP:20260421T141552Z
URL:https://business.anaheimchamber.org/events/details/ribbon-cutting-amcap-mortgage-2265
END:VEVENT

END:VCALENDAR
