BEGIN:VCALENDAR
VERSION:2.0
PRODID:-//ChamberMaster//Event Calendar 2.0//EN
METHOD:PUBLISH
X-PUBLISHED-TTL:P3D
REFRESH-INTERVAL:P3D
CALSCALE:GREGORIAN
BEGIN:VEVENT
DTSTART:20251211T200000Z
DTEND:20251211T210000Z
X-MICROSOFT-CDO-ALLDAYEVENT:FALSE
SUMMARY:Ribbon Cutting @ Anaheim AeroLink
DESCRIPTION:Introducing Anaheim AeroLink\nYou are warmly invited to join us for a special ribbon cutting ceremony as we celebrate the launch of Anaheim AeroLink\, a new division of Parking Company of America\, a local\, family-owned operator with 61 years of experience serving our community and the surrounding region.\n\n\nBe among the first to learn about this exciting new reliable\, comfortable\, and affordable transportation option connecting Anaheim to Los Angeles International Airport.\n\n\n\nAnaheim AeroLink Highlights\n\n *   Direct\, non-stop service from ARTIC to LAX\n\n *   Curbside drop-off and pick-up at each LAX terminal\n\n *   Free parking for up to 2 weeks\n\n *   Service officially begins December 1
X-ALT-DESC;FMTTYPE=text/html:<strong>Introducing Anaheim AeroLink</strong>\n<p style="margin:0in">You are warmly invited to join us for a special ribbon cutting ceremony as we celebrate the launch of Anaheim AeroLink\, a new division of Parking Company of America\, a local\, family-owned operator with 61 years of experience serving our community and the surrounding region.<span style="font-family:&quot\;system-ui&quot\;\,serif"><o:p></o:p></span></p>\n<br />\nBe among the first to learn about this exciting new reliable\, comfortable\, and affordable transportation option connecting Anaheim to Los Angeles International Airport.<br />\n<br />\nAnaheim AeroLink Highlights<br />\n&nbsp\;* &nbsp\;&nbsp\;Direct\, non-stop service from ARTIC to LAX<br />\n&nbsp\;* &nbsp\;&nbsp\;Curbside drop-off and pick-up at each LAX terminal<br />\n&nbsp\;* &nbsp\;&nbsp\;Free parking for up to 2 weeks<br />\n&nbsp\;* &nbsp\;&nbsp\;Service officially begins December 1
LOCATION:ARTIC 2626 E Katella Ave Anaheim\, CA 92806
UID:e.2108.5866
SEQUENCE:3
DTSTAMP:20260424T100414Z
URL:https://business.anaheimchamber.org/events/details/ribbon-cutting-anaheim-aerolink-5866
END:VEVENT

END:VCALENDAR
