BEGIN:VCALENDAR
VERSION:2.0
PRODID:-//ChamberMaster//Event Calendar 2.0//EN
METHOD:PUBLISH
X-PUBLISHED-TTL:P3D
REFRESH-INTERVAL:P3D
CALSCALE:GREGORIAN
BEGIN:VEVENT
DTSTART:20160308T200000Z
DTEND:20160308T220000Z
X-MICROSOFT-CDO-ALLDAYEVENT:FALSE
SUMMARY:Ribbon Cutting - Anaheim Global Medical Center
DESCRIPTION:Ribbon Cutting
X-ALT-DESC;FMTTYPE=text/html:Ribbon Cutting
LOCATION:Anaheim Global Medical Center 1025 S Anaheim Blvd Anaheim\, CA 92805
UID:e.2108.1712
SEQUENCE:3
DTSTAMP:20260421T030848Z
URL:https://business.anaheimchamber.org/events/details/ribbon-cutting-anaheim-global-medical-center-03-08-2016-1712
END:VEVENT

END:VCALENDAR
