BEGIN:VCALENDAR
VERSION:2.0
PRODID:-//ChamberMaster//Event Calendar 2.0//EN
METHOD:PUBLISH
X-PUBLISHED-TTL:P3D
REFRESH-INTERVAL:P3D
CALSCALE:GREGORIAN
BEGIN:VEVENT
DTSTART:20180622T220000Z
DTEND:20180623T000000Z
X-MICROSOFT-CDO-ALLDAYEVENT:FALSE
SUMMARY:Ribbon Cutting - Anti-Fragility Health
DESCRIPTION:Join us for a Ribbon Cutting from one of our newest members!
X-ALT-DESC;FMTTYPE=text/html:<font color="#000000" face="PT Sans Narrow\, sans-serif"><span style="font-size: 16px\; background-color: rgba(255\, 255\, 255\, 0.6)\;">Join us for a Ribbon Cutting from one of our newest members!</span></font>
LOCATION:1020 S Anaheim Blvd #101 Anaheim\, CA 92805
UID:e.2108.2476
SEQUENCE:3
DTSTAMP:20260422T223035Z
URL:https://business.anaheimchamber.org/events/details/ribbon-cutting-anti-fragility-health-2476
END:VEVENT

END:VCALENDAR
