BEGIN:VCALENDAR
VERSION:2.0
PRODID:-//ChamberMaster//Event Calendar 2.0//EN
METHOD:PUBLISH
X-PUBLISHED-TTL:P3D
REFRESH-INTERVAL:P3D
CALSCALE:GREGORIAN
BEGIN:VEVENT
DTSTART:20161104T200000Z
DTEND:20161104T220000Z
X-MICROSOFT-CDO-ALLDAYEVENT:FALSE
SUMMARY:Ribbon Cutting - Applebee's
DESCRIPTION:Join us for our Grand Opening Event! Friday November 4th from 1pm-3pm! We will have booths out from the town center. Face Painting. Samples of food. And more. Look forward to seeing everyone!
X-ALT-DESC;FMTTYPE=text/html:<span style="text-align: left\; color: rgb(0\, 0\, 0)\; text-transform: none\; text-indent: 0px\; letter-spacing: normal\; font-family: &quot\;PT Sans Narrow&quot\;\, sans-serif\; font-size: 16px\; font-style: normal\; font-weight: normal\; word-spacing: 0px\; float: none\; display: inline !important\; white-space: normal\; orphans: 2\; widows: 2\; background-color: rgba(255\, 255\, 255\, 0.6)\; font-variant-ligatures: normal\; font-variant-caps: normal\; -webkit-text-stroke-width: 0px\;">Join us for our Grand Opening Event! Friday November 4th from 1pm-3pm! We will have booths out from the town center. Face Painting. Samples of food. And more. Look forward to seeing everyone!&nbsp\;</span>
LOCATION:Applebee's 2114 E Lincoln Ave. Anaheim\, CA 92801
UID:e.2108.2266
SEQUENCE:3
DTSTAMP:20260421T155657Z
URL:https://business.anaheimchamber.org/events/details/ribbon-cutting-applebee-s-2266
END:VEVENT

END:VCALENDAR
