BEGIN:VCALENDAR
VERSION:2.0
PRODID:-//ChamberMaster//Event Calendar 2.0//EN
METHOD:PUBLISH
X-PUBLISHED-TTL:P3D
REFRESH-INTERVAL:P3D
CALSCALE:GREGORIAN
BEGIN:VEVENT
DTSTART:20240814T210000Z
DTEND:20240814T220000Z
X-MICROSOFT-CDO-ALLDAYEVENT:FALSE
SUMMARY:Ribbon Cutting at Elemental Bottles
DESCRIPTION:You're invited to a ribbon cutting celebrating Elemental Bottles new facility in Anaheim!
X-ALT-DESC;FMTTYPE=text/html:You&#39\;re invited to a ribbon cutting celebrating Elemental Bottles new facility in Anaheim!
LOCATION:1951 E Wright Circle Anaheim\, CA 92806
UID:e.2108.5705
SEQUENCE:3
DTSTAMP:20260420T105720Z
URL:https://business.anaheimchamber.org/events/details/ribbon-cutting-at-elemental-bottles-5705
END:VEVENT

END:VCALENDAR
