BEGIN:VCALENDAR
VERSION:2.0
PRODID:-//ChamberMaster//Event Calendar 2.0//EN
METHOD:PUBLISH
X-PUBLISHED-TTL:P3D
REFRESH-INTERVAL:P3D
CALSCALE:GREGORIAN
BEGIN:VEVENT
DTSTART:20170310T010000Z
DTEND:20170310T020000Z
X-MICROSOFT-CDO-ALLDAYEVENT:FALSE
SUMMARY:Ribbon Cutting - BevMo Anaheim Hills - March 9th\, 2017
DESCRIPTION:Ribbon Cutting
X-ALT-DESC;FMTTYPE=text/html:Ribbon Cutting
LOCATION:BevMo Anaheim Hills 5717 E. Santa Ana Canyon Road Anaheim Hills\, CA 92807
UID:e.2108.2306
SEQUENCE:3
DTSTAMP:20260421T234856Z
URL:https://business.anaheimchamber.org/events/details/ribbon-cutting-bevmo-anaheim-hills-march-9th-2017-2306
END:VEVENT

END:VCALENDAR
