BEGIN:VCALENDAR
VERSION:2.0
PRODID:-//ChamberMaster//Event Calendar 2.0//EN
METHOD:PUBLISH
X-PUBLISHED-TTL:P3D
REFRESH-INTERVAL:P3D
CALSCALE:GREGORIAN
BEGIN:VEVENT
DTSTART:20170605T180000Z
DTEND:20170605T190000Z
X-MICROSOFT-CDO-ALLDAYEVENT:FALSE
SUMMARY:Ribbon Cutting - BioCorRx
DESCRIPTION:Ribbon Cutting
X-ALT-DESC;FMTTYPE=text/html:Ribbon Cutting
LOCATION:BioCorRx 2390 E. Orangewood Ave #575 Anaheim\, CA 92806
UID:e.2108.2356
SEQUENCE:3
DTSTAMP:20260422T043515Z
URL:https://business.anaheimchamber.org/events/details/ribbon-cutting-biocorrx-2356
END:VEVENT

END:VCALENDAR
