BEGIN:VCALENDAR
VERSION:2.0
PRODID:-//ChamberMaster//Event Calendar 2.0//EN
METHOD:PUBLISH
X-PUBLISHED-TTL:P3D
REFRESH-INTERVAL:P3D
CALSCALE:GREGORIAN
BEGIN:VEVENT
DTSTART:20180713T200000Z
DTEND:20180713T233000Z
X-MICROSOFT-CDO-ALLDAYEVENT:FALSE
SUMMARY:Ribbon Cutting - Boti Studios
DESCRIPTION:2:00 PM - Red Ribbon Cutting Ceremony celebrating the manifested vision of two women Co-creating\n\nan enhanced studio for people seeking wellbeing and spiritual awareness.\n\n2:45 PM - A brief presentation outlining the launch of BOTI Studios new Co-Working Office Space\n\ntailored to support intuitive professionals in a collaborative business community.\n\n3:30 PM - Silent Auction to support Caterina's Club\, www.caterinasclub.org
X-ALT-DESC;FMTTYPE=text/html:2:00 PM - Red Ribbon Cutting Ceremony celebrating the manifested vision of two women Co-creating<br />\nan enhanced studio for people seeking wellbeing and spiritual awareness.<br />\n2:45 PM - A brief presentation outlining the launch of BOTI Studios new Co-Working Office Space<br />\ntailored to support intuitive professionals in a collaborative business community.<br />\n3:30 PM - Silent Auction to support Caterina&rsquo\;s Club\, www.caterinasclub.org<br />\n&nbsp\;
LOCATION:607 S. Harbor Blvd. Anaheim\, CA 92805
UID:e.2108.2486
SEQUENCE:3
DTSTAMP:20260422T234853Z
URL:https://business.anaheimchamber.org/events/details/ribbon-cutting-boti-studios-2486
END:VEVENT

END:VCALENDAR
