BEGIN:VCALENDAR
VERSION:2.0
PRODID:-//ChamberMaster//Event Calendar 2.0//EN
METHOD:PUBLISH
X-PUBLISHED-TTL:P3D
REFRESH-INTERVAL:P3D
CALSCALE:GREGORIAN
BEGIN:VEVENT
DTSTART:20160709T193000Z
DTEND:20160709T230000Z
X-MICROSOFT-CDO-ALLDAYEVENT:FALSE
SUMMARY:Ribbon Cutting - Boys & Girls Club of Anaheim
DESCRIPTION:Grand Opening Ribbon Cutting-Boys & Girls Clubs of Anaheim
X-ALT-DESC;FMTTYPE=text/html:Grand Opening Ribbon Cutting-Boys &amp\; Girls Clubs of Anaheim
LOCATION:Manzanita Park 1260 N. Riviera St. Anaheim\, Ca 92801
UID:e.2108.1889
SEQUENCE:3
DTSTAMP:20260421T093250Z
URL:https://business.anaheimchamber.org/events/details/ribbon-cutting-boys-girls-club-of-anaheim-07-09-2016-1889
END:VEVENT

END:VCALENDAR
