BEGIN:VCALENDAR
VERSION:2.0
PRODID:-//ChamberMaster//Event Calendar 2.0//EN
METHOD:PUBLISH
X-PUBLISHED-TTL:P3D
REFRESH-INTERVAL:P3D
CALSCALE:GREGORIAN
BEGIN:VEVENT
DTSTART:20160427T220000Z
DTEND:20160427T230000Z
X-MICROSOFT-CDO-ALLDAYEVENT:FALSE
SUMMARY:Ribbon Cutting - Brain Balance
DESCRIPTION:Ribbon Cutting
X-ALT-DESC;FMTTYPE=text/html:Ribbon Cutting
LOCATION:Brain Balance 8018 E. Santa Ana Canyon Rd. #108 Anaheim Hills\, CA 92808
UID:e.2108.1866
SEQUENCE:3
DTSTAMP:20260421T044519Z
URL:https://business.anaheimchamber.org/events/details/ribbon-cutting-brain-balance-04-27-2016-1866
END:VEVENT

END:VCALENDAR
