BEGIN:VCALENDAR
VERSION:2.0
PRODID:-//ChamberMaster//Event Calendar 2.0//EN
METHOD:PUBLISH
X-PUBLISHED-TTL:P3D
REFRESH-INTERVAL:P3D
CALSCALE:GREGORIAN
BEGIN:VEVENT
DTSTART:20150625T000000Z
DTEND:20150625T020000Z
X-MICROSOFT-CDO-ALLDAYEVENT:FALSE
SUMMARY:Ribbon Cutting - Bronx Sandwich Company
DESCRIPTION:Ribbon Cutting & Grand Opening for Bronx Sandwich Company
X-ALT-DESC;FMTTYPE=text/html:Ribbon Cutting &amp\; Grand Opening for Bronx Sandwich Company
LOCATION:949 S. Euclid St Anaheim\, CA 92802 714-758-3707 bronxsandwich.com
UID:e.2108.1672
SEQUENCE:3
DTSTAMP:20260420T123228Z
URL:https://business.anaheimchamber.org/events/details/ribbon-cutting-bronx-sandwich-company-06-24-2015-1672
END:VEVENT

END:VCALENDAR
