BEGIN:VCALENDAR
VERSION:2.0
PRODID:-//ChamberMaster//Event Calendar 2.0//EN
METHOD:PUBLISH
X-PUBLISHED-TTL:P3D
REFRESH-INTERVAL:P3D
CALSCALE:GREGORIAN
BEGIN:VEVENT
DTSTART:20150115T220000Z
DTEND:20150115T230000Z
X-MICROSOFT-CDO-ALLDAYEVENT:FALSE
SUMMARY:Ribbon Cutting - Brookdale Anaheim
DESCRIPTION:Ribbon cutting for Brookdale Anaheim
X-ALT-DESC;FMTTYPE=text/html:Ribbon cutting for Brookdale Anaheim
LOCATION:200 N Dale Ave Anaheim\, CA 92801
UID:e.2108.1624
SEQUENCE:3
DTSTAMP:20260420T045203Z
URL:https://business.anaheimchamber.org/events/details/ribbon-cutting-brookdale-anaheim-01-15-2015-1624
END:VEVENT

END:VCALENDAR
