BEGIN:VCALENDAR
VERSION:2.0
PRODID:-//ChamberMaster//Event Calendar 2.0//EN
METHOD:PUBLISH
X-PUBLISHED-TTL:P3D
REFRESH-INTERVAL:P3D
CALSCALE:GREGORIAN
BEGIN:VEVENT
DTSTART:20161026T163000Z
DTEND:20161026T180000Z
X-MICROSOFT-CDO-ALLDAYEVENT:FALSE
SUMMARY:Ribbon Cutting - Caremore Nifty After Fifty
DESCRIPTION:Ribbon Cutting
X-ALT-DESC;FMTTYPE=text/html:Ribbon Cutting
LOCATION:Caremore Nifty After Fifty 945 S. Euclid St. Anaheim\, CA 92801
UID:e.2108.2269
SEQUENCE:3
DTSTAMP:20260421T142121Z
URL:https://business.anaheimchamber.org/events/details/ribbon-cutting-caremore-nifty-after-fifty-2269
END:VEVENT

END:VCALENDAR
