BEGIN:VCALENDAR
VERSION:2.0
PRODID:-//ChamberMaster//Event Calendar 2.0//EN
METHOD:PUBLISH
X-PUBLISHED-TTL:P3D
REFRESH-INTERVAL:P3D
CALSCALE:GREGORIAN
BEGIN:VEVENT
DTSTART:20170628T000000Z
DTEND:20170628T013000Z
X-MICROSOFT-CDO-ALLDAYEVENT:FALSE
SUMMARY:Ribbon Cutting - Credit Union of Southern California
DESCRIPTION:Ribbon Cutting
X-ALT-DESC;FMTTYPE=text/html:Ribbon Cutting
LOCATION:Credit Union of Southern California 200 W. Center St. Promenade\, Suite 101 Anaheim\, CA 92805
UID:e.2108.2360
SEQUENCE:3
DTSTAMP:20260422T044219Z
URL:https://business.anaheimchamber.org/events/details/ribbon-cutting-credit-union-of-southern-california-2360
END:VEVENT

END:VCALENDAR
