BEGIN:VCALENDAR
VERSION:2.0
PRODID:-//ChamberMaster//Event Calendar 2.0//EN
METHOD:PUBLISH
X-PUBLISHED-TTL:P3D
REFRESH-INTERVAL:P3D
CALSCALE:GREGORIAN
BEGIN:VEVENT
DTSTART:20180309T013000Z
DTEND:20180309T033000Z
X-MICROSOFT-CDO-ALLDAYEVENT:FALSE
SUMMARY:Ribbon Cutting - Dentists of Anaheim Hills
DESCRIPTION:Ribbon Cutting\n\nChampagne toast\, food\, raffles\, prizes and more.
X-ALT-DESC;FMTTYPE=text/html:Ribbon Cutting<br />\nChampagne toast\, food\, raffles\, prizes and more.
LOCATION:Dentists of Anaheim Hills 8162 E. Santa Ana Canyon Rd. #104 Anaheim\, CA 92808 Located on Santa Ana Canyon Rd in the Festival Shopping Center\, across the parking lot from Hobby Lobby & Pavillions next to Nekter.
UID:e.2108.2446
SEQUENCE:3
DTSTAMP:20260422T175359Z
URL:https://business.anaheimchamber.org/events/details/ribbon-cutting-dentists-of-anaheim-hills-2446
END:VEVENT

END:VCALENDAR
