BEGIN:VCALENDAR
VERSION:2.0
PRODID:-//ChamberMaster//Event Calendar 2.0//EN
METHOD:PUBLISH
X-PUBLISHED-TTL:P3D
REFRESH-INTERVAL:P3D
CALSCALE:GREGORIAN
BEGIN:VEVENT
DTSTART:20151113T000000Z
DTEND:20151113T003000Z
X-MICROSOFT-CDO-ALLDAYEVENT:FALSE
SUMMARY:Ribbon Cutting - Dogtopia
DESCRIPTION:Ribbon Cutting
X-ALT-DESC;FMTTYPE=text/html:Ribbon Cutting
LOCATION:Dogtopia 4570 E Eisenhower Circle Anaheim\, CA 92807
UID:e.2108.1701
SEQUENCE:3
DTSTAMP:20260420T201041Z
URL:https://business.anaheimchamber.org/events/details/ribbon-cutting-dogtopia-11-12-2015-1701
END:VEVENT

END:VCALENDAR
