BEGIN:VCALENDAR
VERSION:2.0
PRODID:-//ChamberMaster//Event Calendar 2.0//EN
METHOD:PUBLISH
X-PUBLISHED-TTL:P3D
REFRESH-INTERVAL:P3D
CALSCALE:GREGORIAN
BEGIN:VEVENT
DTSTART:20181019T220000Z
DTEND:20181020T000000Z
X-MICROSOFT-CDO-ALLDAYEVENT:FALSE
SUMMARY:Ribbon Cutting - Dorene Tammariello Insurance Agency (Farmers Insurance)
DESCRIPTION:Ribbon Cutting for Dorene Tammariello Insurance Agency (Farmers Insurance)
X-ALT-DESC;FMTTYPE=text/html:Ribbon Cutting for Dorene Tammariello Insurance Agency (Farmers Insurance)&nbsp\;<br />\n<br />\n&nbsp\;
LOCATION:5557 E. Santa Ana Canyon Rd\, Ste 202 Anaheim Hills\, CA 92807 (Above Campitelli Cookies)
UID:e.2108.2511
SEQUENCE:3
DTSTAMP:20260419T114103Z
URL:https://business.anaheimchamber.org/events/details/ribbon-cutting-dorene-tammariello-insurance-agency-farmers-insurance-2511
END:VEVENT

END:VCALENDAR
