BEGIN:VCALENDAR
VERSION:2.0
PRODID:-//ChamberMaster//Event Calendar 2.0//EN
METHOD:PUBLISH
X-PUBLISHED-TTL:P3D
REFRESH-INTERVAL:P3D
CALSCALE:GREGORIAN
BEGIN:VEVENT
DTSTART:20180418T154500Z
DTEND:20180418T183000Z
X-MICROSOFT-CDO-ALLDAYEVENT:FALSE
SUMMARY:Ribbon Cutting - FIT4MOM
DESCRIPTION:Join us for a FREE class\, great giveaways\, raffles & refreshments.  First 50 mamas to arrive receive a SWAG BAG full of goodies for health\, fitness & motherhood.
X-ALT-DESC;FMTTYPE=text/html:Join us for a FREE class\, great giveaways\, raffles &amp\; refreshments.&nbsp\; First 50 mamas to arrive receive a SWAG BAG full of goodies for health\, fitness &amp\; motherhood.
LOCATION:Peralta Park 115 N Pinney Dr. Anaheim Hills\, CA 92807
UID:e.2108.2462
SEQUENCE:3
DTSTAMP:20260422T190730Z
URL:https://business.anaheimchamber.org/events/details/ribbon-cutting-fit4mom-2462
END:VEVENT

END:VCALENDAR
