BEGIN:VCALENDAR
VERSION:2.0
PRODID:-//ChamberMaster//Event Calendar 2.0//EN
METHOD:PUBLISH
X-PUBLISHED-TTL:P3D
REFRESH-INTERVAL:P3D
CALSCALE:GREGORIAN
BEGIN:VEVENT
DTSTART:20150423T160000Z
DTEND:20150423T170000Z
X-MICROSOFT-CDO-ALLDAYEVENT:FALSE
SUMMARY:Ribbon Cutting-Floor & Decor
DESCRIPTION:Ribbon Cutting for Floor & Decor
X-ALT-DESC;FMTTYPE=text/html:Ribbon Cutting for Floor &amp\; Decor
LOCATION:202 Imperial Highway Fullerton\, CA 92835
UID:e.2108.1637
SEQUENCE:3
DTSTAMP:20260420T094410Z
URL:https://business.anaheimchamber.org/events/details/ribbon-cutting-floor-decor-04-23-2015-1637
END:VEVENT

END:VCALENDAR
