BEGIN:VCALENDAR
VERSION:2.0
PRODID:-//ChamberMaster//Event Calendar 2.0//EN
METHOD:PUBLISH
X-PUBLISHED-TTL:P3D
REFRESH-INTERVAL:P3D
CALSCALE:GREGORIAN
BEGIN:VEVENT
DTSTART:20151120T020000Z
DTEND:20151120T023000Z
X-MICROSOFT-CDO-ALLDAYEVENT:FALSE
SUMMARY:Ribbon Cutting - Golden Road Brewing
DESCRIPTION:Ribbon Cutting
X-ALT-DESC;FMTTYPE=text/html:Ribbon Cutting
LOCATION:Golden Road Brewing 2210 E Orangewood Ave Anaheim\, CA 92806
UID:e.2108.1702
SEQUENCE:3
DTSTAMP:20260420T201301Z
URL:https://business.anaheimchamber.org/events/details/ribbon-cutting-golden-road-brewing-11-19-2015-1702
END:VEVENT

END:VCALENDAR
