BEGIN:VCALENDAR
VERSION:2.0
PRODID:-//ChamberMaster//Event Calendar 2.0//EN
METHOD:PUBLISH
X-PUBLISHED-TTL:P3D
REFRESH-INTERVAL:P3D
CALSCALE:GREGORIAN
BEGIN:VEVENT
DTSTART:20160324T230000Z
DTEND:20160325T000000Z
X-MICROSOFT-CDO-ALLDAYEVENT:FALSE
SUMMARY:Ribbon Cutting & Grand Opening - Digital Doc
DESCRIPTION:Grand Opening & Ribbon Cutting
X-ALT-DESC;FMTTYPE=text/html:Grand Opening &amp\; Ribbon Cutting
LOCATION:5642 E. La Palma Ave.\, Ste. 208 Anaheim\, CA
UID:e.2108.1721
SEQUENCE:3
DTSTAMP:20260421T025225Z
URL:https://business.anaheimchamber.org/events/details/ribbon-cutting-grand-opening-digital-doc-03-24-2016-1721
END:VEVENT

END:VCALENDAR
