BEGIN:VCALENDAR
VERSION:2.0
PRODID:-//ChamberMaster//Event Calendar 2.0//EN
METHOD:PUBLISH
X-PUBLISHED-TTL:P3D
REFRESH-INTERVAL:P3D
CALSCALE:GREGORIAN
BEGIN:VEVENT
DTSTART:20161006T000000Z
DTEND:20161006T020000Z
X-MICROSOFT-CDO-ALLDAYEVENT:FALSE
SUMMARY:Ribbon Cutting & Grand Opening -Residence Inn Marriott
DESCRIPTION:Grand Opening & Ribbon Cutting
X-ALT-DESC;FMTTYPE=text/html:Grand Opening &amp\; Ribbon Cutting
LOCATION:640 W. Katella Anaheim\, CA 92802
UID:e.2108.2260
SEQUENCE:3
DTSTAMP:20260421T142045Z
URL:https://business.anaheimchamber.org/events/details/ribbon-cutting-grand-opening-residence-inn-marriott-2260
END:VEVENT

END:VCALENDAR
