BEGIN:VCALENDAR
VERSION:2.0
PRODID:-//ChamberMaster//Event Calendar 2.0//EN
METHOD:PUBLISH
X-PUBLISHED-TTL:P3D
REFRESH-INTERVAL:P3D
CALSCALE:GREGORIAN
BEGIN:VEVENT
DTSTART:20180810T220000Z
DTEND:20180811T000000Z
X-MICROSOFT-CDO-ALLDAYEVENT:FALSE
SUMMARY:Ribbon Cutting - La Michoacana
DESCRIPTION:Ribbon Cutting\n\nFree Ice Cream\n\nPrizes\n\nBuy one get one free\n\nBRINGING HAPPINESS\, FRESHNESS & NATURAL FLAVORS\n\n*Free ice cream for first 200 customers
X-ALT-DESC;FMTTYPE=text/html:Ribbon Cutting<br />\nFree Ice Cream<br />\nPrizes<br />\nBuy one get one free<br />\nBRINGING HAPPINESS\, FRESHNESS &amp\; NATURAL FLAVORS<br />\n*Free ice cream for first 200 customers
LOCATION:La Michoacana 927 S. Brookhurst St. Anaheim\, CA 92804
UID:e.2108.2496
SEQUENCE:3
DTSTAMP:20260423T012836Z
URL:https://business.anaheimchamber.org/events/details/ribbon-cutting-la-michoacana-2496
END:VEVENT

END:VCALENDAR
