BEGIN:VCALENDAR
VERSION:2.0
PRODID:-//ChamberMaster//Event Calendar 2.0//EN
METHOD:PUBLISH
X-PUBLISHED-TTL:P3D
REFRESH-INTERVAL:P3D
CALSCALE:GREGORIAN
BEGIN:VEVENT
DTSTART:20150526T173000Z
DTEND:20150526T183000Z
X-MICROSOFT-CDO-ALLDAYEVENT:FALSE
SUMMARY:Ribbon Cutting - Learn4Life Charter Schools
DESCRIPTION:Learn4Life Charter Schhools
X-ALT-DESC;FMTTYPE=text/html:Learn4Life Charter Schhools
LOCATION:505 N. Euclid St. Anaheim\, CA 92801
UID:e.2108.1640
SEQUENCE:3
DTSTAMP:20260420T110547Z
URL:https://business.anaheimchamber.org/events/details/ribbon-cutting-learn4life-charter-schools-05-26-2015-1640
END:VEVENT

END:VCALENDAR
