BEGIN:VCALENDAR
VERSION:2.0
PRODID:-//ChamberMaster//Event Calendar 2.0//EN
METHOD:PUBLISH
X-PUBLISHED-TTL:P3D
REFRESH-INTERVAL:P3D
CALSCALE:GREGORIAN
BEGIN:VEVENT
DTSTART:20161115T180000Z
DTEND:20161115T190000Z
X-MICROSOFT-CDO-ALLDAYEVENT:FALSE
SUMMARY:Ribbon Cutting - Mac Star Computers
DESCRIPTION:Ribbon Cutting
X-ALT-DESC;FMTTYPE=text/html:Ribbon Cutting
LOCATION:Mac Star Computers 933 Brookhurst St. Anaheim\, CA 92804
UID:e.2108.2276
SEQUENCE:3
DTSTAMP:20260421T155600Z
URL:https://business.anaheimchamber.org/events/details/ribbon-cutting-mac-star-computers-2276
END:VEVENT

END:VCALENDAR
