BEGIN:VCALENDAR
VERSION:2.0
PRODID:-//ChamberMaster//Event Calendar 2.0//EN
METHOD:PUBLISH
X-PUBLISHED-TTL:P3D
REFRESH-INTERVAL:P3D
CALSCALE:GREGORIAN
BEGIN:VEVENT
DTSTART:20160807T000000Z
DTEND:20160807T030000Z
X-MICROSOFT-CDO-ALLDAYEVENT:FALSE
SUMMARY:Ribbon Cutting - Marshall B. Ketchum University
DESCRIPTION:Marshall B. Ketchum Ribbon Cutting 5:30 pm\n\n\n\nSharing Our Visions Art Exhibit  5:00 pm - 8:00 pm
X-ALT-DESC;FMTTYPE=text/html:Marshall B. Ketchum Ribbon Cutting 5:30 pm<br />\n<br />\nSharing Our Visions Art Exhibit &nbsp\;5:00 pm - 8:00 pm
LOCATION:5460 E. La Palma Ave. Anaheim\, Ca 92807
UID:e.2108.1896
SEQUENCE:3
DTSTAMP:20260421T105742Z
URL:https://business.anaheimchamber.org/events/details/ribbon-cutting-marshall-b-ketchum-university-08-06-2016-1896
END:VEVENT

END:VCALENDAR
