BEGIN:VCALENDAR
VERSION:2.0
PRODID:-//ChamberMaster//Event Calendar 2.0//EN
METHOD:PUBLISH
X-PUBLISHED-TTL:P3D
REFRESH-INTERVAL:P3D
CALSCALE:GREGORIAN
BEGIN:VEVENT
DTSTART:20150610T223000Z
DTEND:20150610T233000Z
X-MICROSOFT-CDO-ALLDAYEVENT:FALSE
SUMMARY:Ribbon Cutting - Meineke
DESCRIPTION:Ribbon Cutting for Meineke
X-ALT-DESC;FMTTYPE=text/html:Ribbon Cutting for Meineke
LOCATION:718 West Lincoln Ave. Anaheim\, CA 92805
UID:e.2108.1647
SEQUENCE:3
DTSTAMP:20260420T141027Z
URL:https://business.anaheimchamber.org/events/details/ribbon-cutting-meineke-06-10-2015-1647
END:VEVENT

END:VCALENDAR
