BEGIN:VCALENDAR
VERSION:2.0
PRODID:-//ChamberMaster//Event Calendar 2.0//EN
METHOD:PUBLISH
X-PUBLISHED-TTL:P3D
REFRESH-INTERVAL:P3D
CALSCALE:GREGORIAN
BEGIN:VEVENT
DTSTART:20170124T230000Z
DTEND:20170125T000000Z
X-MICROSOFT-CDO-ALLDAYEVENT:FALSE
SUMMARY:Ribbon Cutting - Merry Maids Anaheim Hills - January 24th\, 2017
DESCRIPTION:Ribbon Cutting
X-ALT-DESC;FMTTYPE=text/html:Ribbon Cutting
LOCATION:Merry Maids Anaheim Hills 120 S Chaparral Ct. Suite 110 Anaheim Hills\, CA 92808
UID:e.2108.2290
SEQUENCE:3
DTSTAMP:20260421T192143Z
URL:https://business.anaheimchamber.org/events/details/ribbon-cutting-merry-maids-anaheim-hills-january-24th-2017-2290
END:VEVENT

END:VCALENDAR
