BEGIN:VCALENDAR
VERSION:2.0
PRODID:-//ChamberMaster//Event Calendar 2.0//EN
METHOD:PUBLISH
X-PUBLISHED-TTL:P3D
REFRESH-INTERVAL:P3D
CALSCALE:GREGORIAN
BEGIN:VEVENT
DTSTART:20151009T000000Z
DTEND:20151009T003000Z
X-MICROSOFT-CDO-ALLDAYEVENT:FALSE
SUMMARY:Ribbon Cutting - Motel 6 Feet Under
DESCRIPTION:Ribbon Cutting
X-ALT-DESC;FMTTYPE=text/html:Ribbon Cutting
LOCATION:Motel 6 Feet Under 1960 S. Anaheim\, CA 92805 (Business Expo Center) Previews Oct 2\, 3\, 8 Red Carpet Opening Oct 9 Tix at www.MOTEL6FeetUnder.org
UID:e.2108.1692
SEQUENCE:3
DTSTAMP:20260420T183042Z
URL:https://business.anaheimchamber.org/events/details/ribbon-cutting-motel-6-feet-under-10-08-2015-1692
END:VEVENT

END:VCALENDAR
