BEGIN:VCALENDAR
VERSION:2.0
PRODID:-//ChamberMaster//Event Calendar 2.0//EN
METHOD:PUBLISH
X-PUBLISHED-TTL:P3D
REFRESH-INTERVAL:P3D
CALSCALE:GREGORIAN
BEGIN:VEVENT
DTSTART:20180419T220000Z
DTEND:20180419T230000Z
X-MICROSOFT-CDO-ALLDAYEVENT:FALSE
SUMMARY:Ribbon Cutting - Neal Music Instruction
DESCRIPTION:Join us for a Ribbon Cutting from one of our newest members!\n\nFood\, Free Raffle Prizes\, Live Music and Promotional Items\n\nCome meet our Instructors and tour our Studio
X-ALT-DESC;FMTTYPE=text/html:<font color="#000000" face="PT Sans Narrow\, sans-serif"><span style="font-size: 16px\; background-color: rgba(255\, 255\, 255\, 0.6)\;">Join us for a Ribbon Cutting from one of our newest members!</span></font><br />\n<span style="font-size:12px\;">Food\, Free Raffle Prizes\, Live Music and Promotional Items<br />\nCome meet our Instructors and tour our Studio</span><br />\n&nbsp\;
LOCATION:Anaheim Hills Plaza 430 S. Anaheim Hills Rd. Suite A
UID:e.2108.2467
SEQUENCE:3
DTSTAMP:20260422T190704Z
URL:https://business.anaheimchamber.org/events/details/ribbon-cutting-neal-music-instruction-2467
END:VEVENT

END:VCALENDAR
