BEGIN:VCALENDAR
VERSION:2.0
PRODID:-//ChamberMaster//Event Calendar 2.0//EN
METHOD:PUBLISH
X-PUBLISHED-TTL:P3D
REFRESH-INTERVAL:P3D
CALSCALE:GREGORIAN
BEGIN:VEVENT
DTSTART:20150529T230000Z
DTEND:20150530T010000Z
X-MICROSOFT-CDO-ALLDAYEVENT:FALSE
SUMMARY:Ribbon Cutting - Nekter Juice Bar
DESCRIPTION:Ribbon Cutting for Nekter Juice Bar
X-ALT-DESC;FMTTYPE=text/html:Ribbon Cutting for Nekter&nbsp\;Juice Bar&nbsp\;&nbsp\;&nbsp\;&nbsp\;
LOCATION:Nekter Juice Bar 5655 E La Palma Ave #135 Anaheim Hills\, CA 92807
UID:e.2108.1648
SEQUENCE:3
DTSTAMP:20260420T110719Z
URL:https://business.anaheimchamber.org/events/details/ribbon-cutting-nekter-juice-bar-05-29-2015-1648
END:VEVENT

END:VCALENDAR
