BEGIN:VCALENDAR
VERSION:2.0
PRODID:-//ChamberMaster//Event Calendar 2.0//EN
METHOD:PUBLISH
X-PUBLISHED-TTL:P3D
REFRESH-INTERVAL:P3D
CALSCALE:GREGORIAN
BEGIN:VEVENT
DTSTART:20150115T000000Z
DTEND:20150115T020000Z
X-MICROSOFT-CDO-ALLDAYEVENT:FALSE
SUMMARY:Ribbon Cutting - Nothing Bundt Cakes
DESCRIPTION:Ribbon Cutting for Nothing Bundt Cakes
X-ALT-DESC;FMTTYPE=text/html:Ribbon Cutting for Nothing Bundt Cakes<br />\n&nbsp\;
LOCATION:1503 E. Katella Ave. Orange\, CA 92867
UID:e.2108.1478
SEQUENCE:3
DTSTAMP:20260420T045014Z
URL:https://business.anaheimchamber.org/events/details/ribbon-cutting-nothing-bundt-cakes-01-14-2015-1478
END:VEVENT

END:VCALENDAR
