BEGIN:VCALENDAR
VERSION:2.0
PRODID:-//ChamberMaster//Event Calendar 2.0//EN
METHOD:PUBLISH
X-PUBLISHED-TTL:P3D
REFRESH-INTERVAL:P3D
CALSCALE:GREGORIAN
BEGIN:VEVENT
DTSTART:20251204T220000Z
DTEND:20251204T230000Z
X-MICROSOFT-CDO-ALLDAYEVENT:FALSE
SUMMARY:Ribbon Cutting @ Nothing Bundt Cakes Anaheim Hills
DESCRIPTION:Join us as we celebrate the grand opening of Nothing Bundt Cakes in Anaheim Hills!
X-ALT-DESC;FMTTYPE=text/html:Join us as we celebrate the grand opening of Nothing Bundt Cakes in Anaheim Hills!
LOCATION:8126 E Santa Ana Canyon Rd Anaheim\, CA 92808
UID:e.2108.5860
SEQUENCE:3
DTSTAMP:20260424T100139Z
URL:https://business.anaheimchamber.org/events/details/ribbon-cutting-nothing-bundt-cakes-anaheim-hills-5860
END:VEVENT

END:VCALENDAR
