BEGIN:VCALENDAR
VERSION:2.0
PRODID:-//ChamberMaster//Event Calendar 2.0//EN
METHOD:PUBLISH
X-PUBLISHED-TTL:P3D
REFRESH-INTERVAL:P3D
CALSCALE:GREGORIAN
BEGIN:VEVENT
DTSTART:20180814T230000Z
DTEND:20180815T003000Z
X-MICROSOFT-CDO-ALLDAYEVENT:FALSE
SUMMARY:Ribbon Cutting - NTS Corporate Center
DESCRIPTION:Ribbon Cutting\n\nNTS is the undisputed leader in testing\, inspection and certification services for space\,\n\ndefense\, aerospace\, medical\, telecommunications\, and automotive sectors. As such\, NTS\n\nmaintains a worldwide presence with:\n\n27 Laboratories in North America\n\n59 Locations Worldwide\n\n8\,000+ Customers (NASA\, Boeing\, US Navy\, AT&T\, etc.)\n\n1\,300 Employees
X-ALT-DESC;FMTTYPE=text/html:Ribbon Cutting<br />\nNTS is the undisputed leader in testing\, inspection and certification services for space\,<br />\ndefense\, aerospace\, medical\, telecommunications\, and automotive sectors. As such\, NTS<br />\nmaintains a worldwide presence with:<br />\n27 Laboratories in North America<br />\n59 Locations Worldwide<br />\n8\,000+ Customers (NASA\, Boeing\, US Navy\, AT&amp\;T\, etc.)<br />\n1\,300 Employees
LOCATION:NTS Corporate Center 2125 E. Katella Ave. Ste 250 Anaheim\, CA 92806
UID:e.2108.2497
SEQUENCE:3
DTSTAMP:20260423T012907Z
URL:https://business.anaheimchamber.org/events/details/ribbon-cutting-nts-corporate-center-2497
END:VEVENT

END:VCALENDAR
