BEGIN:VCALENDAR
VERSION:2.0
PRODID:-//ChamberMaster//Event Calendar 2.0//EN
METHOD:PUBLISH
X-PUBLISHED-TTL:P3D
REFRESH-INTERVAL:P3D
CALSCALE:GREGORIAN
BEGIN:VEVENT
DTSTART:20250131T220000Z
DTEND:20250131T230000Z
X-MICROSOFT-CDO-ALLDAYEVENT:FALSE
SUMMARY:Ribbon Cutting @ Paymore Anaheim
DESCRIPTION:Please join us for a ribbon cutting celebrating a new small business in Anaheim -- Paymore!
X-ALT-DESC;FMTTYPE=text/html:Please join us for a ribbon cutting celebrating a new small business in Anaheim -- Paymore!&nbsp\;
LOCATION:2198 E Lincoln Ave Anaheim\, CA 92806
UID:e.2108.5739
SEQUENCE:3
DTSTAMP:20260419T141351Z
URL:https://business.anaheimchamber.org/events/details/ribbon-cutting-paymore-anaheim-5739
END:VEVENT

END:VCALENDAR
