BEGIN:VCALENDAR
VERSION:2.0
PRODID:-//ChamberMaster//Event Calendar 2.0//EN
METHOD:PUBLISH
X-PUBLISHED-TTL:P3D
REFRESH-INTERVAL:P3D
CALSCALE:GREGORIAN
BEGIN:VEVENT
DTSTART:20230123T190000Z
DTEND:20230123T200000Z
X-MICROSOFT-CDO-ALLDAYEVENT:FALSE
SUMMARY:Ribbon Cutting @ Phelps United
DESCRIPTION:Join us at the Ribbon Cutting @ Phelps United
X-ALT-DESC;FMTTYPE=text/html:Join us at the Ribbon Cutting @ Phelps United
LOCATION:4852 E La Palma Ave. Anaheim\, CA 92807
UID:e.2108.4642
SEQUENCE:3
DTSTAMP:20260419T205636Z
URL:https://business.anaheimchamber.org/events/details/ribbon-cutting-phelps-united-4642
END:VEVENT

END:VCALENDAR
