BEGIN:VCALENDAR
VERSION:2.0
PRODID:-//ChamberMaster//Event Calendar 2.0//EN
METHOD:PUBLISH
X-PUBLISHED-TTL:P3D
REFRESH-INTERVAL:P3D
CALSCALE:GREGORIAN
BEGIN:VEVENT
DTSTART:20141022T230000Z
DTEND:20141023T010000Z
X-MICROSOFT-CDO-ALLDAYEVENT:FALSE
SUMMARY:Ribbon Cutting - Rita's Ice of Anaheim Hills
DESCRIPTION:Please join us for a Ribbon Cutting for Rita's Ice of Anaheim Hills. The event is from 4-6 pm. The Ribbon Cutting will take place at 4:30pm. \n\n\n\nSee you there!
X-ALT-DESC;FMTTYPE=text/html:Please join us for a Ribbon Cutting for Rita&#39\;s Ice of Anaheim Hills. The event is from 4-6 pm. The Ribbon Cutting will take place at 4:30pm.&nbsp\;<br />\n<br />\nSee you there!
LOCATION:Rita's Ice of Anaheim Hills 5556 E. Santa Ana Canyon Rd.\, Suite A Anaheim\, CA 92807
UID:e.2108.1468
SEQUENCE:3
DTSTAMP:20260419T233853Z
URL:https://business.anaheimchamber.org/events/details/ribbon-cutting-rita-s-ice-of-anaheim-hills-10-22-2014-1468
END:VEVENT

END:VCALENDAR
