BEGIN:VCALENDAR
VERSION:2.0
PRODID:-//ChamberMaster//Event Calendar 2.0//EN
METHOD:PUBLISH
X-PUBLISHED-TTL:P3D
REFRESH-INTERVAL:P3D
CALSCALE:GREGORIAN
BEGIN:VEVENT
DTSTART:20180406T220000Z
DTEND:20180407T010000Z
X-MICROSOFT-CDO-ALLDAYEVENT:FALSE
SUMMARY:Ribbon Cutting - Sandra Parker Dental and Orthodontics
DESCRIPTION:You are invited to attend a Grand Opening and be among the first to preview a tour of our new modern dental office. Meet our friendly staff and professional dentist.
X-ALT-DESC;FMTTYPE=text/html:<span style="font-size:12px\;"><span style="font-family:arial\;"><span style="color:black\;">You are invited to attend a Grand Opening and be among the first to preview a tour of our new modern dental office. Meet our friendly staff and professional dentist</span>.&nbsp\; &nbsp\;&nbsp\;</span></span>
LOCATION:843 S. State College Blvd. Anaheim\, CA 92806
UID:e.2108.2463
SEQUENCE:3
DTSTAMP:20260422T190846Z
URL:https://business.anaheimchamber.org/events/details/ribbon-cutting-sandra-parker-dental-and-orthodontics-2463
END:VEVENT

END:VCALENDAR
