BEGIN:VCALENDAR
VERSION:2.0
PRODID:-//ChamberMaster//Event Calendar 2.0//EN
METHOD:PUBLISH
X-PUBLISHED-TTL:P3D
REFRESH-INTERVAL:P3D
CALSCALE:GREGORIAN
BEGIN:VEVENT
DTSTART:20150130T000000Z
DTEND:20150130T030000Z
X-MICROSOFT-CDO-ALLDAYEVENT:FALSE
SUMMARY:Ribbon Cutting - Silva Management Insurance Services-SMIS
DESCRIPTION:Ribbon Cutting for Silva Management Insurance Services- SMIS
X-ALT-DESC;FMTTYPE=text/html:Ribbon Cutting for Silva Management Insurance Services- SMIS
LOCATION:1240 Lakeview Ave Suite #125 Anaheim\, CA 92807
UID:e.2108.1621
SEQUENCE:3
DTSTAMP:20260420T045055Z
URL:https://business.anaheimchamber.org/events/details/ribbon-cutting-silva-management-insurance-services-smis-01-29-2015-1621
END:VEVENT

END:VCALENDAR
