BEGIN:VCALENDAR
VERSION:2.0
PRODID:-//ChamberMaster//Event Calendar 2.0//EN
METHOD:PUBLISH
X-PUBLISHED-TTL:P3D
REFRESH-INTERVAL:P3D
CALSCALE:GREGORIAN
BEGIN:VEVENT
DTSTART:20150116T000000Z
DTEND:20150116T030000Z
X-MICROSOFT-CDO-ALLDAYEVENT:FALSE
SUMMARY:Ribbon Cutting - Springhill Suites at Anaheim Resort/Convention Center
DESCRIPTION:Springhill Suites Ribbon Cutting
X-ALT-DESC;FMTTYPE=text/html:Springhill&nbsp\;Suites Ribbon Cutting&nbsp\;&nbsp\;&nbsp\;&nbsp\;&nbsp\;&nbsp\;&nbsp\;&nbsp\;
LOCATION:1801 South Harbor Blvd. Anaheim\, CA 92802
UID:e.2108.1477
SEQUENCE:3
DTSTAMP:20260420T045219Z
URL:https://business.anaheimchamber.org/events/details/ribbon-cutting-springhill-suites-at-anaheim-resort-convention-center-01-15-2015-1477
END:VEVENT

END:VCALENDAR
