BEGIN:VCALENDAR
VERSION:2.0
PRODID:-//ChamberMaster//Event Calendar 2.0//EN
METHOD:PUBLISH
X-PUBLISHED-TTL:P3D
REFRESH-INTERVAL:P3D
CALSCALE:GREGORIAN
BEGIN:VEVENT
DTSTART:20170630T200000Z
DTEND:20170630T220000Z
X-MICROSOFT-CDO-ALLDAYEVENT:FALSE
SUMMARY:Ribbon Cutting - Tapestry Walk
DESCRIPTION:The Olsen Company is pleased to invite you to a Ribbon Cutting Ceremony at our new Tapestry Walk community. Friday June 30th from 1pm-3pm! Please join us for refreshments and tour our new models!
X-ALT-DESC;FMTTYPE=text/html:<span style="text-align: left\; color: rgb(0\, 0\, 0)\; text-transform: none\; text-indent: 0px\; letter-spacing: normal\; font-family: &quot\;PT Sans Narrow&quot\;\, sans-serif\; font-size: 16px\; font-style: normal\; font-weight: normal\; word-spacing: 0px\; float: none\; display: inline !important\; white-space: normal\; orphans: 2\; widows: 2\; background-color: rgba(255\, 255\, 255\, 0.6)\; font-variant-ligatures: normal\; font-variant-caps: normal\; -webkit-text-stroke-width: 0px\;">The Olsen Company is pleased to invite you to a Ribbon Cutting Ceremony at our new Tapestry Walk community. Friday June 30th from 1pm-3pm! Please join us for refreshments and tour our new models!</span>
LOCATION:2337 S. Manchester Ave Anaheim\, CA 92802
UID:e.2108.2364
SEQUENCE:3
DTSTAMP:20260422T025940Z
URL:https://business.anaheimchamber.org/events/details/ribbon-cutting-tapestry-walk-2364
END:VEVENT

END:VCALENDAR
