BEGIN:VCALENDAR
VERSION:2.0
PRODID:-//ChamberMaster//Event Calendar 2.0//EN
METHOD:PUBLISH
X-PUBLISHED-TTL:P3D
REFRESH-INTERVAL:P3D
CALSCALE:GREGORIAN
BEGIN:VEVENT
DTSTART:20150909T223000Z
DTEND:20150909T233000Z
X-MICROSOFT-CDO-ALLDAYEVENT:FALSE
SUMMARY:Ribbon Cutting - True Seasons Organic Kitchen
DESCRIPTION:Ribbon Cutting
X-ALT-DESC;FMTTYPE=text/html:Ribbon Cutting
LOCATION:True Seasons Organic Kitchen 5675 E. La Palma Avenue Anaheim\, California 92807 (In the Cinema City Theater center)
UID:e.2108.1686
SEQUENCE:3
DTSTAMP:20260420T165601Z
URL:https://business.anaheimchamber.org/events/details/ribbon-cutting-true-seasons-organic-kitchen-09-09-2015-1686
END:VEVENT

END:VCALENDAR
