BEGIN:VCALENDAR
VERSION:2.0
PRODID:-//ChamberMaster//Event Calendar 2.0//EN
METHOD:PUBLISH
X-PUBLISHED-TTL:P3D
REFRESH-INTERVAL:P3D
CALSCALE:GREGORIAN
BEGIN:VEVENT
DTSTART:20160818T003000Z
DTEND:20160818T013000Z
X-MICROSOFT-CDO-ALLDAYEVENT:FALSE
SUMMARY:Ribbon Cutting - Victory Tax and Financial Services
DESCRIPTION:Ribbon Cutting - Victory Tax and Financial Services
X-ALT-DESC;FMTTYPE=text/html:Ribbon Cutting - Victory Tax and Financial Services
LOCATION:2203 E. Lincoln Anaheim\, Ca 92806
UID:e.2108.1894
SEQUENCE:3
DTSTAMP:20260421T110235Z
URL:https://business.anaheimchamber.org/events/details/ribbon-cutting-victory-tax-and-financial-services-08-17-2016-1894
END:VEVENT

END:VCALENDAR
