BEGIN:VCALENDAR
VERSION:2.0
PRODID:-//ChamberMaster//Event Calendar 2.0//EN
METHOD:PUBLISH
X-PUBLISHED-TTL:P3D
REFRESH-INTERVAL:P3D
CALSCALE:GREGORIAN
BEGIN:VEVENT
DTSTART:20230816T170000Z
DTEND:20230816T183000Z
X-MICROSOFT-CDO-ALLDAYEVENT:FALSE
SUMMARY:Ribbon Cutting @ Villains Brewing
DESCRIPTION:Join us for the Ribbon Cutting Ceremony at Villains Brewing!
X-ALT-DESC;FMTTYPE=text/html:<span style="font-size:16px\;">Join us for the Ribbon Cutting Ceremony at Villains Brewing!</span>
LOCATION:555 S. Anaheim Blvd. Anaheim 92805
UID:e.2108.5271
SEQUENCE:3
DTSTAMP:20260419T172528Z
URL:https://business.anaheimchamber.org/events/details/ribbon-cutting-villains-brewing-5271
END:VEVENT

END:VCALENDAR
