BEGIN:VCALENDAR
VERSION:2.0
PRODID:-//ChamberMaster//Event Calendar 2.0//EN
METHOD:PUBLISH
X-PUBLISHED-TTL:P3D
REFRESH-INTERVAL:P3D
CALSCALE:GREGORIAN
BEGIN:VEVENT
DTSTART:20161114T180000Z
DTEND:20161114T190000Z
X-MICROSOFT-CDO-ALLDAYEVENT:FALSE
SUMMARY:Ribbon Cutting - Walgeens
DESCRIPTION:Ribbon Cutting
X-ALT-DESC;FMTTYPE=text/html:Ribbon Cutting
LOCATION:Walgreens 1802 S Harbor Blvd. Anaheim CA\, 92802
UID:e.2108.2277
SEQUENCE:3
DTSTAMP:20260421T161426Z
URL:https://business.anaheimchamber.org/events/details/ribbon-cutting-walgeens-2277
END:VEVENT

END:VCALENDAR
